BEGIN:VCALENDAR
VERSION:2.0
PRODID:-//https://tantric.dance///NONSGML kigkonsult.se iCalcreator 2.10.15//
METHOD:PUBLISH
BEGIN:VEVENT
UID:20260422T095721UTC-2462lKL5DK@https://tantric.dance/
DTSTAMP:20260422T095721Z
DESCRIPTION:BEWUST SAMEN DANSENEen feestelijke dansavond voor singles\, kop
 pels\, beginners en gevorderden.\n♡ THEMA Playtime! ♡Deze avond nodigt je 
 uit om weer thuis te komen in je lichaam\, je adem en al je levenslust. Om
  te bewegen als een kind — vrij\, nieuwsgierig\, zonder moeten. Via muziek
 \, dans en ontmoeting spelen we met aanwezigheid: licht\, open en een tikk
 eltje ondeugend.\nVanuit de energie van het hart- en sacraalchakra laten w
 e de stroom ontstaan tussen voelen en verlangen — tussen tederheid en spee
 lse passie.\n“Playtime” is een uitnodiging om verwachtingen los te laten e
 n opnieuw te ontdekken hoe het voelt om gewoon te spelen. Om te lachen\, t
 e verleiden\, te vertragen en te verrassen. Om het leven even niet zo seri
 eus te nemen\, maar het wél diep te voelen.\nLaat je energie dartelen en s
 tromen in een veilige\, warme bedding.\nOf je nu zacht en dromerig beweegt
  of juist wild en speels — je bent welkom\, precies zoals je bent.\n♡ TEAC
 HER ♡Desy\n♡ PROGRAMMA ♡19:00 ~ OPEN (19:30 deur DICHT!)19:30 ~ START Chak
 ra Dance Journey20:15 ~ Tantric Dance demo20:30 ~ Tantric Dance Workshop21
 :45 ~ Vrij dansen22:15 ~ Einde\n♡ FAQ ♡Het merendeel van de deelnememers i
 s single van alle leeftijden en vanaf 18 jaar.Koppels zijn zeer welkom en 
 kunnen indien gewenst de hele avond bij elkaar blijven.Danspartners worden
  willekeurig gemaakt\, dansend met hetzelfde of verschillend geslacht.Je h
 oeft nooit iets te doen wat niet klopt voor jou en er is geen groepsdruk.W
 e dansen op blote voeten\, met kleding aan en is zonder aanraking van inti
 eme delen.http://faq.tantricdance.nl\n♡ CHAKRA DANCE JOURNEY ♡Een korte re
 is door de verschillende energie centra om je levenskracht aan te wakkeren
  dmv adem en beweging. De perfecte voorbereiding voor de Tantric Dance.\n♡
  TANTRIC DANCE ♡Een dans van geven en ontvangen\, waarbij de één de leidin
 g heeft en de ander zich geblinddoekt laat bewegen in de dans. De uitdagin
 g is om heel dicht bij jezelf te blijven\, maar tegelijkertijd in verbindi
 ng te zijn met de ander. Een oefening om open en gegrond te zijn.\n♡ TD CE
 LEBRATION ♡Een gezellige dansavond met korte uitleg over de basis van Tant
 ric Dance zodat dit zelf kunt gaan ervaren. De opzet is een leuke en gezel
 lige avond met ruimte voor zelfonderzoek en reflectie.Voor meer begeleidin
 g\, uitleg en les in technieken zijn er de TD Workshops en TD Verdiepingsg
 roep.https://pad.tantricdance.nl\n♡ VIDEO CURSUS ♡Wil je goed beslagen de 
 dans vloer opgaan\, kijk dan onze online basis cursus: https://course.tant
 ricdance.nl\n♡ BENODIGDHEDEN ♡Het is een feestelijke avond\, hier hoort mo
 oie kleding bij waarin je lekker kunt bewegen.Neem je eigen blinddoek mee 
 of ontvang 'm ter plaatse om je dans verdieping te geven.\n♡ TICKET ♡€35\,
 - Single ticket€65\,- Koppel ticket€25\,- Jongeren ticket (leeftijd t/m 25
  jaar)+€3\,- @deurprijs\n♡ LOKATIE ♡Yogaschool Noord NDSMPlotterstraat 24\
 , Amsterdam\n♡ PARKEREN ♡In de buurt\n♡ CONTACT ♡Heb je vragen\, stuur ze 
 naar elfriede@tantric.danceOf kijk op https://tantricdance.nl\n♡ FEEDBACK 
 ♡We staan altijd open voor reacties en feedback via https://feedback.tantr
 icdance.nl\nTANTRIC DANCE by Tantra Schoolinfo@tantricdance.nlhttps://tant
 ricdance.nl\n--- ENGLISH ---DANCING CONSCIOUSLY TOGETHERA dance of giving 
 and receiving\, where one is directing the dance and the other is receivin
 g the dance blindfolded or with eyes closed. The challenge is to stay very
  close to yourself\, but at the same time to be connected with the other. 
 An exercise to become open and grounded.For more info visit https://tantri
 c.dance https://tantric.dance/nl/td-amsterdam-events/evenement/906-tantric
 -dance-celebration-amsterdam-o-playtime
DTSTART:20260502T173000Z
DTEND:20260502T201500Z
LOCATION:Yogaschool Noord NDSM (Plotterstraat 24\, 1033 RX Amsterdam)
SUMMARY:Tantric Dance CELEBRATION Amsterdam • Playtime
URL:https://tantric.dance/nl/td-amsterdam-events/evenement/906-tantric-danc
 e-celebration-amsterdam-o-playtime
END:VEVENT
BEGIN:VEVENT
UID:20260422T095721UTC-2467vsWn5v@https://tantric.dance/
DTSTAMP:20260422T095721Z
DESCRIPTION:Boeken\nBEWUST SAMEN DANSEN\nEen feestelijke dansavond voor sin
 gles\, koppels\, beginners en gevorderden.\n♡ THEMA ♡volgt\n♡ PROGRAMMA ♡1
 9:00 ~ OPEN (19:30 deur DICHT!)19:30 ~ START Chakra Dance Journey20:15 ~ T
 antric Dance demo20:30 ~ Tantric Dance Workshop21:45 ~ Vrij dansen22:15 ~ 
 Einde\n♡ FAQ ♡Het merendeel van de deelnememers is single van alle leeftij
 den en vanaf 18 jaar.Koppels zijn zeer welkom en kunnen indien gewenst de 
 hele avond bij elkaar blijven.Danspartners worden willekeurig gemaakt\, da
 nsend met hetzelfde of verschillend geslacht.Je hoeft nooit iets te doen w
 at niet klopt voor jou en er is geen groepsdruk.We dansen op blote voeten\
 , met kleding aan en is zonder aanraking van intieme delen.http://faq.tant
 ricdance.nl\n♡ CHAKRA DANCE JOURNEY ♡Een dans reis door de verschillende e
 nergie centra om je levenskracht aan te wakkeren dmv adem en beweging. De 
 perfecte voorbereiding voor de Tantric Dance.\n♡ TANTRIC DANCE ♡Een dans v
 an geven en ontvangen\, waarbij de één de leiding heeft en de ander zich g
 eblinddoekt laat bewegen in de dans. De uitdaging is om heel dicht bij jez
 elf te blijven\, maar tegelijkertijd in verbinding te zijn met de ander. E
 en oefening om open en gegrond te zijn.https://info.tantricdance.nl\n♡ TD 
 CELEBRATION ♡Een gezellige dansavond met korte uitleg over de basis van Ta
 ntric Dance zodat dit zelf kunt gaan ervaren. De opzet is een leuke en gez
 ellige avond met ruimte voor zelfonderzoek en reflectie.Voor meer begeleid
 ing\, uitleg en les in technieken zijn er de TD Workshops en TD Verdieping
 sgroep.https://pad.tantricdance.nl\n♡ VIDEO CURSUS ♡Wil je goed beslagen d
 e dans vloer opgaan\, kijk dan online onze video basis cursus.https://cour
 se.tantricdance.nl\n♡ BENODIGDHEDEN ♡Het is een feestelijke avond\, hier h
 oort mooie kleding bij waarin je lekker kunt bewegen.Neem je eigen blinddo
 ek mee of ontvang 'm ter plaatse om je dans verdieping te geven.We raden a
 an om geen sierraden om te doen.Thee en lekkers bij de prijs inbegrepen.\n
 ♡ LOKATIE ♡Yoga School North NDSMPlotterstraat 24 (googlemaps Plotterstraa
 t 13)1033 RX Amsterdam North\n♡ PARKEREN ♡Gratis! Soms even zoeken naar ee
 n geschikte locatie.\n&nbsp\;\n♡ FEEDBACK ♡We staan altijd open voor react
 ies en feedback via https://feedback.tantricdance.nl https://tantric.dance
 /nl/td-amsterdam-events/evenement/907-tantric-dance-celebration-amsterdam-
 o
DTSTART:20260516T173000Z
DTEND:20260516T201500Z
LOCATION:Yogaschool Noord NDSM (Plotterstraat 24\, 1033 RX Amsterdam)
SUMMARY:Tantric Dance CELEBRATION Amsterdam • 
URL:https://tantric.dance/nl/td-amsterdam-events/evenement/907-tantric-danc
 e-celebration-amsterdam-o
END:VEVENT
BEGIN:VEVENT
UID:20260422T095721UTC-24717VVa0E@https://tantric.dance/
DTSTAMP:20260422T095721Z
DESCRIPTION:Boeken\nBEWUST SAMEN DANSEN\nEen feestelijke dansavond voor sin
 gles\, koppels\, beginners en gevorderden.\n♡ THEMA ♡volgt\n♡ PROGRAMMA ♡1
 9:00 ~ OPEN (19:30 deur DICHT!)19:30 ~ START Chakra Dance Journey20:15 ~ T
 antric Dance demo20:30 ~ Tantric Dance Workshop21:45 ~ Vrij dansen22:15 ~ 
 Einde\n♡ FAQ ♡Het merendeel van de deelnememers is single van alle leeftij
 den en vanaf 18 jaar.Koppels zijn zeer welkom en kunnen indien gewenst de 
 hele avond bij elkaar blijven.Danspartners worden willekeurig gemaakt\, da
 nsend met hetzelfde of verschillend geslacht.Je hoeft nooit iets te doen w
 at niet klopt voor jou en er is geen groepsdruk.We dansen op blote voeten\
 , met kleding aan en is zonder aanraking van intieme delen.http://faq.tant
 ricdance.nl\n♡ CHAKRA DANCE JOURNEY ♡Een dans reis door de verschillende e
 nergie centra om je levenskracht aan te wakkeren dmv adem en beweging. De 
 perfecte voorbereiding voor de Tantric Dance.\n♡ TANTRIC DANCE ♡Een dans v
 an geven en ontvangen\, waarbij de één de leiding heeft en de ander zich g
 eblinddoekt laat bewegen in de dans. De uitdaging is om heel dicht bij jez
 elf te blijven\, maar tegelijkertijd in verbinding te zijn met de ander. E
 en oefening om open en gegrond te zijn.https://info.tantricdance.nl\n♡ TD 
 CELEBRATION ♡Een gezellige dansavond met korte uitleg over de basis van Ta
 ntric Dance zodat dit zelf kunt gaan ervaren. De opzet is een leuke en gez
 ellige avond met ruimte voor zelfonderzoek en reflectie.Voor meer begeleid
 ing\, uitleg en les in technieken zijn er de TD Workshops en TD Verdieping
 sgroep.https://pad.tantricdance.nl\n♡ VIDEO CURSUS ♡Wil je goed beslagen d
 e dans vloer opgaan\, kijk dan online onze video basis cursus.https://cour
 se.tantricdance.nl\n♡ BENODIGDHEDEN ♡Het is een feestelijke avond\, hier h
 oort mooie kleding bij waarin je lekker kunt bewegen.Neem je eigen blinddo
 ek mee of ontvang 'm ter plaatse om je dans verdieping te geven.We raden a
 an om geen sierraden om te doen.Thee en lekkers bij de prijs inbegrepen.\n
 ♡ LOKATIE ♡Yoga School North NDSMPlotterstraat 24 (googlemaps Plotterstraa
 t 13)1033 RX Amsterdam North\n♡ PARKEREN ♡Gratis! Soms even zoeken naar ee
 n geschikte locatie.\n&nbsp\;\n♡ FEEDBACK ♡We staan altijd open voor react
 ies en feedback via https://feedback.tantricdance.nl https://tantric.dance
 /nl/td-amsterdam-events/evenement/908-tantric-dance-celebration-amsterdam-
 o
DTSTART:20260606T173000Z
DTEND:20260606T201500Z
LOCATION:Yogaschool Noord NDSM (Plotterstraat 24\, 1033 RX Amsterdam)
SUMMARY:Tantric Dance CELEBRATION Amsterdam • 
URL:https://tantric.dance/nl/td-amsterdam-events/evenement/908-tantric-danc
 e-celebration-amsterdam-o
END:VEVENT
BEGIN:VEVENT
UID:20260422T095721UTC-2474ribmE2@https://tantric.dance/
DTSTAMP:20260422T095721Z
DESCRIPTION:Boeken\nBEWUST SAMEN DANSEN\nEen feestelijke dansavond voor sin
 gles\, koppels\, beginners en gevorderden.\n♡ THEMA ♡volgt\n♡ PROGRAMMA ♡1
 9:00 ~ OPEN (19:30 deur DICHT!)19:30 ~ START Chakra Dance Journey20:15 ~ T
 antric Dance demo20:30 ~ Tantric Dance Workshop21:45 ~ Vrij dansen22:15 ~ 
 Einde\n♡ FAQ ♡Het merendeel van de deelnememers is single van alle leeftij
 den en vanaf 18 jaar.Koppels zijn zeer welkom en kunnen indien gewenst de 
 hele avond bij elkaar blijven.Danspartners worden willekeurig gemaakt\, da
 nsend met hetzelfde of verschillend geslacht.Je hoeft nooit iets te doen w
 at niet klopt voor jou en er is geen groepsdruk.We dansen op blote voeten\
 , met kleding aan en is zonder aanraking van intieme delen.http://faq.tant
 ricdance.nl\n♡ CHAKRA DANCE JOURNEY ♡Een dans reis door de verschillende e
 nergie centra om je levenskracht aan te wakkeren dmv adem en beweging. De 
 perfecte voorbereiding voor de Tantric Dance.\n♡ TANTRIC DANCE ♡Een dans v
 an geven en ontvangen\, waarbij de één de leiding heeft en de ander zich g
 eblinddoekt laat bewegen in de dans. De uitdaging is om heel dicht bij jez
 elf te blijven\, maar tegelijkertijd in verbinding te zijn met de ander. E
 en oefening om open en gegrond te zijn.https://info.tantricdance.nl\n♡ TD 
 CELEBRATION ♡Een gezellige dansavond met korte uitleg over de basis van Ta
 ntric Dance zodat dit zelf kunt gaan ervaren. De opzet is een leuke en gez
 ellige avond met ruimte voor zelfonderzoek en reflectie.Voor meer begeleid
 ing\, uitleg en les in technieken zijn er de TD Workshops en TD Verdieping
 sgroep.https://pad.tantricdance.nl\n♡ VIDEO CURSUS ♡Wil je goed beslagen d
 e dans vloer opgaan\, kijk dan online onze video basis cursus.https://cour
 se.tantricdance.nl\n♡ BENODIGDHEDEN ♡Het is een feestelijke avond\, hier h
 oort mooie kleding bij waarin je lekker kunt bewegen.Neem je eigen blinddo
 ek mee of ontvang 'm ter plaatse om je dans verdieping te geven.We raden a
 an om geen sierraden om te doen.Thee en lekkers bij de prijs inbegrepen.\n
 ♡ LOKATIE ♡Yoga School North NDSMPlotterstraat 24 (googlemaps Plotterstraa
 t 13)1033 RX Amsterdam North\n♡ PARKEREN ♡Gratis! Soms even zoeken naar ee
 n geschikte locatie.\n&nbsp\;\n♡ FEEDBACK ♡We staan altijd open voor react
 ies en feedback via https://feedback.tantricdance.nl https://tantric.dance
 /nl/td-amsterdam-events/evenement/910-tantric-dance-celebration-amsterdam-
 o
DTSTART:20260620T173000Z
DTEND:20260620T201500Z
LOCATION:Yogaschool Noord NDSM (Plotterstraat 24\, 1033 RX Amsterdam)
SUMMARY:Tantric Dance CELEBRATION Amsterdam • 
URL:https://tantric.dance/nl/td-amsterdam-events/evenement/910-tantric-danc
 e-celebration-amsterdam-o
END:VEVENT
BEGIN:VEVENT
UID:20260422T095721UTC-2478J4xVvB@https://tantric.dance/
DTSTAMP:20260422T095721Z
DESCRIPTION:Are you interested in Tantric Dance and feel the desire to faci
 litate this beautiful dance?\nJoin our 7 day teacher training! This traini
 ng is facilitated by founder Rakesh Mijling&amp\;Elfriede van der Sanden.
 \nFrom 2020 we offer this high quality training and have trained many teac
 hers all over the globe (Australia\, Spain\, US and many more!).\n*\nThis 
 week is a deep level-up in your leadership skills\, and for that we not on
 ly use theory and information\, but foremost embodiment: by practices like
  usage of your voice and body\, you will notice this week is like rocket f
 uel into your power as a teacher.\nThis training is suitable for people th
 at are already teachers\, and starters\, it is our experience that everyon
 e takes many fruits from this week.\n**\nEvery day we have different theme
 s like basics/pillars in Tantric DanceChakra’s\, Sexual energy\, Dance tec
 hniquesHow to hold processes of participantsMarketing and requirements of 
 holding a workshop\nBut the biggest gift from this week\, is that you will
  receive personal (direct) feedback and practices that help you as a uniqu
 e teacher. Getting clear on what your gift is and what your challenge is.
 \nWe learn about the dance and we DO the dance in this week\, so that you 
 will let go of layers that are keeping you small.\nSo you want to..* Becom
 e a skilled teacher in the TD* Receive an official certificate* Get lesson
 s from Rakesh and Elfriede* receiving feedback\n* Receive many tips &amp\;
  tricks about giving workshops* Practice giving a workshop* Find out what 
 your unique qualities are\n***\nDATESdaily from 11:00 AM - 5:00 PM (with s
 ome exceptions that we will let you know) + 2 zoom sessions before and aft
 er the traininig\nINCLUDINGTraining\nEXCLUSIVELunch\, accommodation\, dinn
 er\, travel costs etc\nPRICE€1450\,- PP(-50 euro early bird)\nTICKET (we d
 o a screening after application and contact you)http://teacher.tantric.dan
 ce\nWelcome!Elfriede &amp\; Rakesh❤ https://tantric.dance/nl/td-amsterdam-
 events/evenement/926-tantric-dance-teacher-training-nl
DTSTART:20260907T090000Z
DTEND:20260913T150000Z
LOCATION:Studio239 (Prinsengracht 239\, 1015 DT Amsterdam)
SUMMARY:Tantric Dance TEACHER TRAINING ★ NL
URL:https://tantric.dance/nl/td-amsterdam-events/evenement/926-tantric-danc
 e-teacher-training-nl
END:VEVENT
END:VCALENDAR
